BEGIN:VCALENDAR
VERSION:2.0
PRODID:-//hacksw/handcal//NONSGML v1.0//EN
CALSCALE:GREGORIAN
BEGIN:VEVENT
ORGANIZER;CN=Jack Henry & Associates, Inc.:MAILTO:no-reply@mail.gcs-web.com
DTEND:
UID:1da79b3a-50ef-4c1a-8114-1acee1ce6668
DTSTAMP:1777043546
LOCATION:https://edge.media-server.com/mmc/p/juyf8z7q/
DESCRIPTION:Event Details https://ir.jackhenry.com/events/event-details/jack-henry-associates-third-quarter-fy-2026-earnings-conference-call\n\nWebcast: https://edge.media-server.com/mmc/p/juyf8z7q/
URL;VALUE=URI:https://edge.media-server.com/mmc/p/juyf8z7q/
SUMMARY:Jack Henry & Associates, Inc. - Jack Henry & Associates Third Quarter FY 2026 Earnings Conference Call 
DTSTART:20260506T124500Z
END:VEVENT
END:VCALENDAR